BEGIN:VCALENDAR
VERSION:2.0
PRODID:-//Pictures London//Cinema Listings//EN
CALSCALE:GREGORIAN
METHOD:PUBLISH
X-WR-CALNAME:Pictures London Cinema
BEGIN:VEVENT
UID:85ce8cb1-6a6f-4c19-9973-e4785aa91212@pictures.london
DTSTART:20260501T133000Z
DTEND:20260501T152900Z
SUMMARY:The Devil Wears Prada 2 (2026) at Everyman Baker Street
DESCRIPTION:The Devil Wears Prada 2 (2026)\nat Everyman Baker Street\nBook: https://purchase.everymancinema.com/launch/ticketing/97057635-d698-57cd-b3d7-cb2496b9c314\nvia Pictures (pictures.london)
LOCATION:Everyman Baker Street\, 96-98 Baker Street\, Marylebone\, W1U 6AG
URL:https://purchase.everymancinema.com/launch/ticketing/97057635-d698-57cd-b3d7-cb2496b9c314
STATUS:CONFIRMED
END:VEVENT
END:VCALENDAR