BEGIN:VCALENDAR
VERSION:2.0
PRODID:-//Pictures London//Cinema Listings//EN
CALSCALE:GREGORIAN
METHOD:PUBLISH
X-WR-CALNAME:Pictures London Cinema
BEGIN:VEVENT
UID:85c825e6-0ac6-479e-9811-7f1c051a8da6@pictures.london
DTSTART:20260426T122000Z
DTEND:20260426T122800Z
SUMMARY:Gallivant (The Pilot) (1994) at BFI Southbank
DESCRIPTION:Gallivant (The Pilot) (1994)\nat BFI Southbank\nEvent: q and a\nBook: https://whatson.bfi.org.uk/Online/default.asp?doWork::WScontent::loadArticle=Load&BOparam::WScontent::loadArticle::article_id=7E461BFB-BFF2-4F01-A7FF-992B66ED195E&BOparam::WScontent::loadArticle::context_id=D5FB38F3-58CA-4F40-A186-5862853F53FB\nvia Pictures (pictures.london)
LOCATION:BFI Southbank\, Belvedere Road\, South Bank\, SE1 8XT
URL:https://whatson.bfi.org.uk/Online/default.asp?doWork::WScontent::loadArticle=Load&BOparam::WScontent::loadArticle::article_id=7E461BFB-BFF2-4F01-A7FF-992B66ED195E&BOparam::WScontent::loadArticle::context_id=D5FB38F3-58CA-4F40-A186-5862853F53FB
STATUS:CONFIRMED
END:VEVENT
END:VCALENDAR