BEGIN:VCALENDAR
VERSION:2.0
PRODID:-//Pictures London//Cinema Listings//EN
CALSCALE:GREGORIAN
METHOD:PUBLISH
X-WR-CALNAME:Pictures London Cinema
BEGIN:VEVENT
UID:859f6ca5-3e14-4e74-8555-e4f25a207424@pictures.london
DTSTART:20260426T160000Z
DTEND:20260426T173600Z
SUMMARY:Olivia (1951) at Close-Up Cinema
DESCRIPTION:Olivia (1951)\nat Close-Up Cinema\nBook: https://www.closeupfilmcentre.com/film_programmes/2026/olivia-qanda-with-sof-a-petersen/\nvia Pictures (pictures.london)
LOCATION:Close-Up Cinema\, 97 Sclater Street\, Shoreditch\, E1 6HR
URL:https://www.closeupfilmcentre.com/film_programmes/2026/olivia-qanda-with-sof-a-petersen/
STATUS:CONFIRMED
END:VEVENT
END:VCALENDAR