BEGIN:VCALENDAR
VERSION:2.0
PRODID:-//Pictures London//Cinema Listings//EN
CALSCALE:GREGORIAN
METHOD:PUBLISH
X-WR-CALNAME:Pictures London Cinema
BEGIN:VEVENT
UID:855791be-aad0-4a6f-8889-ceea7ac0f363@pictures.london
DTSTART:20260422T163000Z
DTEND:20260422T183700Z
SUMMARY:Michael (2026) at Everyman Crystal Palace
DESCRIPTION:Michael (2026)\nat Everyman Crystal Palace\nBook: https://purchase.everymancinema.com/launch/ticketing/a5006058-8b4e-5950-a1fc-82544f0bf6c9\nvia Pictures (pictures.london)
LOCATION:Everyman Crystal Palace\, 25 Church Road\, Crystal Palace\, SE19 2AE
URL:https://purchase.everymancinema.com/launch/ticketing/a5006058-8b4e-5950-a1fc-82544f0bf6c9
STATUS:CONFIRMED
END:VEVENT
END:VCALENDAR