BEGIN:VCALENDAR
VERSION:2.0
PRODID:-//Pictures London//Cinema Listings//EN
CALSCALE:GREGORIAN
METHOD:PUBLISH
X-WR-CALNAME:Pictures London Cinema
BEGIN:VEVENT
UID:854efd8d-0443-4fbe-9556-8af04ded9dce@pictures.london
DTSTART:20260421T172000Z
DTEND:20260421T185600Z
SUMMARY:The Conspiracists (2026) at Curzon Bloomsbury
DESCRIPTION:The Conspiracists (2026)\nat Curzon Bloomsbury\nBook: https://www.curzon.com/films/dochouse-the-conspiracists/HO00006915/\nvia Pictures (pictures.london)
LOCATION:Curzon Bloomsbury\, The Brunswick Centre\, Bloomsbury\, WC1H 8AG
URL:https://www.curzon.com/films/dochouse-the-conspiracists/HO00006915/
STATUS:CONFIRMED
END:VEVENT
END:VCALENDAR