BEGIN:VCALENDAR
VERSION:2.0
PRODID:-//Pictures London//Cinema Listings//EN
CALSCALE:GREGORIAN
METHOD:PUBLISH
X-WR-CALNAME:Pictures London Cinema
BEGIN:VEVENT
UID:848089ae-0304-42a1-8ce0-d617694c185e@pictures.london
DTSTART:20260427T110000Z
DTEND:20260427T121200Z
SUMMARY:Fantastic Planet (1973) at Prince Charles Cinema
DESCRIPTION:Fantastic Planet (1973)\nat Prince Charles Cinema\nBook: https://princecharlescinema.com/prince-charles-cinema/booknow/31625629\nvia Pictures (pictures.london)
LOCATION:Prince Charles Cinema\, 7 Leicester Place\, Leicester Square\, WC2H 7BY
URL:https://princecharlescinema.com/prince-charles-cinema/booknow/31625629
STATUS:CONFIRMED
END:VEVENT
END:VCALENDAR