BEGIN:VCALENDAR
VERSION:2.0
PRODID:-//Pictures London//Cinema Listings//EN
CALSCALE:GREGORIAN
METHOD:PUBLISH
X-WR-CALNAME:Pictures London Cinema
BEGIN:VEVENT
UID:83a668da-9bae-4a2c-a6a0-002992076164@pictures.london
DTSTART:20260422T123000Z
DTEND:20260422T143900Z
SUMMARY:To Kill a Mockingbird (1962) at Garden Cinema
DESCRIPTION:To Kill a Mockingbird (1962)\nat Garden Cinema\nBook: https://bookings.thegardencinema.co.uk/TheGardenCinema.dll/TSelectItems.waSelectItemsPrompt.TcsWebMenuItem_0.TcsWebTab_0.TcsPerformance_5296198.TcsSection_638\nvia Pictures (pictures.london)
LOCATION:Garden Cinema\, 39-41 Parker Street\, Covent Garden\, WC2B 5PQ
URL:https://bookings.thegardencinema.co.uk/TheGardenCinema.dll/TSelectItems.waSelectItemsPrompt.TcsWebMenuItem_0.TcsWebTab_0.TcsPerformance_5296198.TcsSection_638
STATUS:CONFIRMED
END:VEVENT
END:VCALENDAR