BEGIN:VCALENDAR
VERSION:2.0
PRODID:-//Pictures London//Cinema Listings//EN
CALSCALE:GREGORIAN
METHOD:PUBLISH
X-WR-CALNAME:Pictures London Cinema
BEGIN:VEVENT
UID:83a2248d-ba5c-4aa5-b023-4af99a9cfa4b@pictures.london
DTSTART:20260425T110000Z
DTEND:20260425T125500Z
SUMMARY:Raiders of the Lost Ark (1981) at Prince Charles Cinema
DESCRIPTION:Raiders of the Lost Ark (1981)\nat Prince Charles Cinema\nBook: https://princecharlescinema.com/prince-charles-cinema/booknow/31624692\nvia Pictures (pictures.london)
LOCATION:Prince Charles Cinema\, 7 Leicester Place\, Leicester Square\, WC2H 7BY
URL:https://princecharlescinema.com/prince-charles-cinema/booknow/31624692
STATUS:CONFIRMED
END:VEVENT
END:VCALENDAR