BEGIN:VCALENDAR
VERSION:2.0
PRODID:-//Pictures London//Cinema Listings//EN
CALSCALE:GREGORIAN
METHOD:PUBLISH
X-WR-CALNAME:Pictures London Cinema
BEGIN:VEVENT
UID:8305ff35-c389-43b3-9c38-20618d03585c@pictures.london
DTSTART:20260421T111500Z
DTEND:20260421T131900Z
SUMMARY:Akira (1988) at Everyman Crystal Palace
DESCRIPTION:Akira (1988)\nat Everyman Crystal Palace\nFormat: DCP_4K\nBook: https://purchase.everymancinema.com/launch/ticketing/4c7cd9bd-80b5-50bf-84f7-e0d3cf0a9758\nvia Pictures (pictures.london)
LOCATION:Everyman Crystal Palace\, 25 Church Road\, Crystal Palace\, SE19 2AE
URL:https://purchase.everymancinema.com/launch/ticketing/4c7cd9bd-80b5-50bf-84f7-e0d3cf0a9758
STATUS:CONFIRMED
END:VEVENT
END:VCALENDAR