BEGIN:VCALENDAR
VERSION:2.0
PRODID:-//Pictures London//Cinema Listings//EN
CALSCALE:GREGORIAN
METHOD:PUBLISH
X-WR-CALNAME:Pictures London Cinema
BEGIN:VEVENT
UID:82d89221-84e8-4c55-8c29-fd2efc75092c@pictures.london
DTSTART:20260421T210000Z
DTEND:20260421T230000Z
SUMMARY:AKIRA (2026 Re-release) (Subbed) (2026) at Everyman Chelsea
DESCRIPTION:AKIRA (2026 Re-release) (Subbed) (2026)\nat Everyman Chelsea\nFormat: DCP_4K\nBook: https://purchase.everymancinema.com/launch/ticketing/480bac2f-cded-597d-9428-120cd210239e\nvia Pictures (pictures.london)
LOCATION:Everyman Chelsea\, 279 King's Road\, Chelsea\, SW3 3TD
URL:https://purchase.everymancinema.com/launch/ticketing/480bac2f-cded-597d-9428-120cd210239e
STATUS:CONFIRMED
END:VEVENT
END:VCALENDAR