BEGIN:VCALENDAR
VERSION:2.0
PRODID:-//Pictures London//Cinema Listings//EN
CALSCALE:GREGORIAN
METHOD:PUBLISH
X-WR-CALNAME:Pictures London Cinema
BEGIN:VEVENT
UID:81f50def-54b2-418d-a125-9c0db6f03c01@pictures.london
DTSTART:20260422T173000Z
DTEND:20260422T193700Z
SUMMARY:Michael (2026) at Everyman Belsize Park
DESCRIPTION:Michael (2026)\nat Everyman Belsize Park\nBook: https://purchase.everymancinema.com/launch/ticketing/0c89b697-3fa6-5299-8849-5b5da944b8bd\nvia Pictures (pictures.london)
LOCATION:Everyman Belsize Park\, 203 Haverstock Hill\, Belsize Park\, NW3 4QG
URL:https://purchase.everymancinema.com/launch/ticketing/0c89b697-3fa6-5299-8849-5b5da944b8bd
STATUS:CONFIRMED
END:VEVENT
END:VCALENDAR