BEGIN:VCALENDAR
VERSION:2.0
PRODID:-//Pictures London//Cinema Listings//EN
CALSCALE:GREGORIAN
METHOD:PUBLISH
X-WR-CALNAME:Pictures London Cinema
BEGIN:VEVENT
UID:81cee502-428e-4281-991b-9613d672d609@pictures.london
DTSTART:20260421T183000Z
DTEND:20260421T201500Z
SUMMARY:The Drama (2026) at Everyman Broadgate
DESCRIPTION:The Drama (2026)\nat Everyman Broadgate\nBook: https://purchase.everymancinema.com/launch/ticketing/5a3a03e5-f996-5627-a2ae-b2f7f26c52d8\nvia Pictures (pictures.london)
LOCATION:Everyman Broadgate\, Broadgate Circle\, Liverpool Street\, EC2M 2QS
URL:https://purchase.everymancinema.com/launch/ticketing/5a3a03e5-f996-5627-a2ae-b2f7f26c52d8
STATUS:CONFIRMED
END:VEVENT
END:VCALENDAR