BEGIN:VCALENDAR
VERSION:2.0
PRODID:-//Pictures London//Cinema Listings//EN
CALSCALE:GREGORIAN
METHOD:PUBLISH
X-WR-CALNAME:Pictures London Cinema
BEGIN:VEVENT
UID:81be4ebd-084b-48c3-9dba-4bfabe16a980@pictures.london
DTSTART:20260422T110000Z
DTEND:20260422T130700Z
SUMMARY:Michael (2026) at Castle Sidcup
DESCRIPTION:Michael (2026)\nat Castle Sidcup\nBook: https://castlesidcup.com/bookings/1640/\nvia Pictures (pictures.london)
LOCATION:Castle Sidcup\, 44 Main Road\, Sidcup\, DA14 6NJ
URL:https://castlesidcup.com/bookings/1640/
STATUS:CONFIRMED
END:VEVENT
END:VCALENDAR