BEGIN:VCALENDAR
VERSION:2.0
PRODID:-//Pictures London//Cinema Listings//EN
CALSCALE:GREGORIAN
METHOD:PUBLISH
X-WR-CALNAME:Pictures London Cinema
BEGIN:VEVENT
UID:81a2a167-588d-455a-b7ed-2b22387696a6@pictures.london
DTSTART:20260422T203000Z
DTEND:20260422T220700Z
SUMMARY:Bowfinger (1999) at Finsbury Park Picturehouse
DESCRIPTION:Bowfinger (1999)\nat Finsbury Park Picturehouse\nBook: https://www.picturehouses.com/movie-details/029/HO00017680/bowfinger\nvia Pictures (pictures.london)
LOCATION:Finsbury Park Picturehouse\, Unit B\, Finsbury Park Station\, Finsbury Park\, N4 3FP
URL:https://www.picturehouses.com/movie-details/029/HO00017680/bowfinger
STATUS:CONFIRMED
END:VEVENT
END:VCALENDAR