BEGIN:VCALENDAR
VERSION:2.0
PRODID:-//Pictures London//Cinema Listings//EN
CALSCALE:GREGORIAN
METHOD:PUBLISH
X-WR-CALNAME:Pictures London Cinema
BEGIN:VEVENT
UID:8191b972-ed97-487f-891a-f0a94b46c3d3@pictures.london
DTSTART:20260427T180000Z
DTEND:20260427T193000Z
SUMMARY:Midwinter Break (2026) at Olympic Studios
DESCRIPTION:Midwinter Break (2026)\nat Olympic Studios\nBook: https://web1.empire.mycloudcinema.com/#/book/55094\nvia Pictures (pictures.london)
LOCATION:Olympic Studios\, 117-123 Church Road\, Barnes\, SW13 9HL
URL:https://web1.empire.mycloudcinema.com/#/book/55094
STATUS:CONFIRMED
END:VEVENT
END:VCALENDAR