BEGIN:VCALENDAR
VERSION:2.0
PRODID:-//Pictures London//Cinema Listings//EN
CALSCALE:GREGORIAN
METHOD:PUBLISH
X-WR-CALNAME:Pictures London Cinema
BEGIN:VEVENT
UID:8177584e-2ec5-447e-b206-976a8d124719@pictures.london
DTSTART:20260421T160000Z
DTEND:20260421T175400Z
SUMMARY:Rose of Nevada (2026) at The Gate
DESCRIPTION:Rose of Nevada (2026)\nat The Gate\nEvent: preview\nBook: https://www.picturehouses.com/movie-details/016/HO00017705/rose-of-nevada\nvia Pictures (pictures.london)
LOCATION:The Gate\, 87 Notting Hill Gate\, Notting Hill\, W11 3JE
URL:https://www.picturehouses.com/movie-details/016/HO00017705/rose-of-nevada
STATUS:CONFIRMED
END:VEVENT
END:VCALENDAR