BEGIN:VCALENDAR
VERSION:2.0
PRODID:-//Pictures London//Cinema Listings//EN
CALSCALE:GREGORIAN
METHOD:PUBLISH
X-WR-CALNAME:Pictures London Cinema
BEGIN:VEVENT
UID:8155a952-aada-4d21-b0ef-c43efc98f876@pictures.london
DTSTART:20260421T211500Z
DTEND:20260421T230000Z
SUMMARY:The Drama (2026) at Everyman Canary Wharf
DESCRIPTION:The Drama (2026)\nat Everyman Canary Wharf\nBook: https://purchase.everymancinema.com/launch/ticketing/180de918-95ce-5015-bc9d-5e5e16db2729\nvia Pictures (pictures.london)
LOCATION:Everyman Canary Wharf\, Crossrail Place\, Canary Wharf\, E14 5NY
URL:https://purchase.everymancinema.com/launch/ticketing/180de918-95ce-5015-bc9d-5e5e16db2729
STATUS:CONFIRMED
END:VEVENT
END:VCALENDAR