BEGIN:VCALENDAR
VERSION:2.0
PRODID:-//Pictures London//Cinema Listings//EN
CALSCALE:GREGORIAN
METHOD:PUBLISH
X-WR-CALNAME:Pictures London Cinema
BEGIN:VEVENT
UID:81399b2d-5daa-443c-99ef-538ccd375076@pictures.london
DTSTART:20260421T173000Z
DTEND:20260421T190300Z
SUMMARY:Golem (1980) at The Nickel
DESCRIPTION:Golem (1980)\nat The Nickel\nFormat: DIGITAL\nBook: https://book.thenickel.co.uk/screening/277\nvia Pictures (pictures.london)
LOCATION:The Nickel\, 194 Upper Street\, Islington\, N1 1RQ
URL:https://book.thenickel.co.uk/screening/277
STATUS:CONFIRMED
END:VEVENT
END:VCALENDAR