BEGIN:VCALENDAR
VERSION:2.0
PRODID:-//Pictures London//Cinema Listings//EN
CALSCALE:GREGORIAN
METHOD:PUBLISH
X-WR-CALNAME:Pictures London Cinema
BEGIN:VEVENT
UID:811a8885-095d-4bbe-9b35-ab274652a4b0@pictures.london
DTSTART:20260422T200000Z
DTEND:20260422T213600Z
SUMMARY:Hunger (2008) at Rich Mix
DESCRIPTION:Hunger (2008)\nat Rich Mix\nBook: https://richmix.org.uk/whats-on/cinema/hunger/\nvia Pictures (pictures.london)
LOCATION:Rich Mix\, 35-47 Bethnal Green Road\, Shoreditch\, E1 6LA
URL:https://richmix.org.uk/whats-on/cinema/hunger/
STATUS:CONFIRMED
END:VEVENT
END:VCALENDAR