BEGIN:VCALENDAR
VERSION:2.0
PRODID:-//Pictures London//Cinema Listings//EN
CALSCALE:GREGORIAN
METHOD:PUBLISH
X-WR-CALNAME:Pictures London Cinema
BEGIN:VEVENT
UID:8080e362-962e-49c1-99e6-8374dddabaf2@pictures.london
DTSTART:20260422T134500Z
DTEND:20260422T160000Z
SUMMARY:Fire Walk with Me (1992) at Prince Charles Cinema
DESCRIPTION:Fire Walk with Me (1992)\nat Prince Charles Cinema\nBook: https://princecharlescinema.com/prince-charles-cinema/booknow/31625575\nvia Pictures (pictures.london)
LOCATION:Prince Charles Cinema\, 7 Leicester Place\, Leicester Square\, WC2H 7BY
URL:https://princecharlescinema.com/prince-charles-cinema/booknow/31625575
STATUS:CONFIRMED
END:VEVENT
END:VCALENDAR