BEGIN:VCALENDAR
VERSION:2.0
PRODID:-//Pictures London//Cinema Listings//EN
CALSCALE:GREGORIAN
METHOD:PUBLISH
X-WR-CALNAME:Pictures London Cinema
BEGIN:VEVENT
UID:8025b224-371c-4f4b-bf99-e87ed0ab1fae@pictures.london
DTSTART:20260421T143000Z
DTEND:20260421T170700Z
SUMMARY:Project Hail Mary (2026) at Everyman Canary Wharf
DESCRIPTION:Project Hail Mary (2026)\nat Everyman Canary Wharf\nBook: https://purchase.everymancinema.com/launch/ticketing/f8bfb863-52df-585c-8136-5821484393a9\nvia Pictures (pictures.london)
LOCATION:Everyman Canary Wharf\, Crossrail Place\, Canary Wharf\, E14 5NY
URL:https://purchase.everymancinema.com/launch/ticketing/f8bfb863-52df-585c-8136-5821484393a9
STATUS:CONFIRMED
END:VEVENT
END:VCALENDAR