BEGIN:VCALENDAR
VERSION:2.0
PRODID:-//Pictures London//Cinema Listings//EN
CALSCALE:GREGORIAN
METHOD:PUBLISH
X-WR-CALNAME:Pictures London Cinema
BEGIN:VEVENT
UID:801978b1-4ee7-4851-8daa-551ffce54f93@pictures.london
DTSTART:20260428T164500Z
DTEND:20260428T181200Z
SUMMARY:Scooby-Doo (2002) at Prince Charles Cinema
DESCRIPTION:Scooby-Doo (2002)\nat Prince Charles Cinema\nFormat: 35MM\nBook: https://princecharlescinema.com/prince-charles-cinema/booknow/31625872\nvia Pictures (pictures.london)
LOCATION:Prince Charles Cinema\, 7 Leicester Place\, Leicester Square\, WC2H 7BY
URL:https://princecharlescinema.com/prince-charles-cinema/booknow/31625872
STATUS:CONFIRMED
END:VEVENT
END:VCALENDAR