BEGIN:VCALENDAR
VERSION:2.0
PRODID:-//Pictures London//Cinema Listings//EN
CALSCALE:GREGORIAN
METHOD:PUBLISH
X-WR-CALNAME:Pictures London Cinema
BEGIN:VEVENT
UID:7fdc19f5-d3b0-45b9-b7c4-7aa53f9e5e58@pictures.london
DTSTART:20260501T130000Z
DTEND:20260501T145900Z
SUMMARY:The Devil Wears Prada 2 (2026) at Everyman Broadgate
DESCRIPTION:The Devil Wears Prada 2 (2026)\nat Everyman Broadgate\nBook: https://purchase.everymancinema.com/launch/ticketing/faf39c9a-0610-5e74-922f-37f09edb6e42\nvia Pictures (pictures.london)
LOCATION:Everyman Broadgate\, Broadgate Circle\, Liverpool Street\, EC2M 2QS
URL:https://purchase.everymancinema.com/launch/ticketing/faf39c9a-0610-5e74-922f-37f09edb6e42
STATUS:CONFIRMED
END:VEVENT
END:VCALENDAR