BEGIN:VCALENDAR
VERSION:2.0
PRODID:-//Pictures London//Cinema Listings//EN
CALSCALE:GREGORIAN
METHOD:PUBLISH
X-WR-CALNAME:Pictures London Cinema
BEGIN:VEVENT
UID:7fb722be-1269-4127-adbb-39870db461a3@pictures.london
DTSTART:20260425T130000Z
DTEND:20260425T150000Z
SUMMARY:RIO FOREVER: VARDA FILM CLUB X LA CINEMAÍZ PRESENT: MURS MURS (1981) at Rio Cinema
DESCRIPTION:RIO FOREVER: VARDA FILM CLUB X LA CINEMAÍZ PRESENT: MURS MURS (1981)\nat Rio Cinema\nBook: https://riocinema.org.uk/Rio.dll/WhatsOn?f=2383893\nvia Pictures (pictures.london)
LOCATION:Rio Cinema\, 107 Kingsland High Street\, Dalston\, E8 2PB
URL:https://riocinema.org.uk/Rio.dll/WhatsOn?f=2383893
STATUS:CONFIRMED
END:VEVENT
END:VCALENDAR