BEGIN:VCALENDAR
VERSION:2.0
PRODID:-//Pictures London//Cinema Listings//EN
CALSCALE:GREGORIAN
METHOD:PUBLISH
X-WR-CALNAME:Pictures London Cinema
BEGIN:VEVENT
UID:7f6b9ea2-1333-4862-9bb1-e40a31d637d3@pictures.london
DTSTART:20260424T165000Z
DTEND:20260424T184200Z
SUMMARY:Mother Mary (2026) at Castle Sidcup
DESCRIPTION:Mother Mary (2026)\nat Castle Sidcup\nBook: https://castlesidcup.com/bookings/1654/\nvia Pictures (pictures.london)
LOCATION:Castle Sidcup\, 44 Main Road\, Sidcup\, DA14 6NJ
URL:https://castlesidcup.com/bookings/1654/
STATUS:CONFIRMED
END:VEVENT
END:VCALENDAR