BEGIN:VCALENDAR
VERSION:2.0
PRODID:-//Pictures London//Cinema Listings//EN
CALSCALE:GREGORIAN
METHOD:PUBLISH
X-WR-CALNAME:Pictures London Cinema
BEGIN:VEVENT
UID:7f64c8b0-f7a8-4922-9dc9-c0d4f7fa58dd@pictures.london
DTSTART:20260421T154500Z
DTEND:20260421T173500Z
SUMMARY:The Magic Faraway Tree (2026) at Everyman Muswell Hill
DESCRIPTION:The Magic Faraway Tree (2026)\nat Everyman Muswell Hill\nBook: https://purchase.everymancinema.com/launch/ticketing/ce3ff5a9-c2bb-59d9-a59f-c7453ca6bc37\nvia Pictures (pictures.london)
LOCATION:Everyman Muswell Hill\, Fortis Green Road\, Muswell Hill\, N10 3TD
URL:https://purchase.everymancinema.com/launch/ticketing/ce3ff5a9-c2bb-59d9-a59f-c7453ca6bc37
STATUS:CONFIRMED
END:VEVENT
END:VCALENDAR