BEGIN:VCALENDAR
VERSION:2.0
PRODID:-//Pictures London//Cinema Listings//EN
CALSCALE:GREGORIAN
METHOD:PUBLISH
X-WR-CALNAME:Pictures London Cinema
BEGIN:VEVENT
UID:7ee44326-d27c-44dd-8763-fedfb594429e@pictures.london
DTSTART:20260421T201000Z
DTEND:20260421T215500Z
SUMMARY:The Drama (2026) at Hackney Picturehouse
DESCRIPTION:The Drama (2026)\nat Hackney Picturehouse\nBook: https://www.picturehouses.com/movie-details/010/HO00017737/the-drama\nvia Pictures (pictures.london)
LOCATION:Hackney Picturehouse\, 270 Mare Street\, Hackney\, E8 1EJ
URL:https://www.picturehouses.com/movie-details/010/HO00017737/the-drama
STATUS:CONFIRMED
END:VEVENT
END:VCALENDAR