BEGIN:VCALENDAR
VERSION:2.0
PRODID:-//Pictures London//Cinema Listings//EN
CALSCALE:GREGORIAN
METHOD:PUBLISH
X-WR-CALNAME:Pictures London Cinema
BEGIN:VEVENT
UID:7eb45ef1-285b-4a79-b35b-aa361f452875@pictures.london
DTSTART:20260421T191500Z
DTEND:20260421T205500Z
SUMMARY:The Christophers (2026) at West Norwood Picturehouse
DESCRIPTION:The Christophers (2026)\nat West Norwood Picturehouse\nEvent: preview\nBook: https://www.picturehouses.com/movie-details/023/HO00017892/the-christophers-live-broadcast-q-a\nvia Pictures (pictures.london)
LOCATION:West Norwood Picturehouse\, The Old Library\, 14-16 Knight's Hill\, West Norwood\, SE27 9NX
URL:https://www.picturehouses.com/movie-details/023/HO00017892/the-christophers-live-broadcast-q-a
STATUS:CONFIRMED
END:VEVENT
END:VCALENDAR