BEGIN:VCALENDAR
VERSION:2.0
PRODID:-//Pictures London//Cinema Listings//EN
CALSCALE:GREGORIAN
METHOD:PUBLISH
X-WR-CALNAME:Pictures London Cinema
BEGIN:VEVENT
UID:7e0cc6f3-6dbe-4683-9eb3-8d4c8136b157@pictures.london
DTSTART:20260428T201000Z
DTEND:20260428T215700Z
SUMMARY:Hokum (2026) at Ealing Picturehouse
DESCRIPTION:Hokum (2026)\nat Ealing Picturehouse\nEvent: preview\nBook: https://www.picturehouses.com/movie-details/031/HO00017849/hokum\nvia Pictures (pictures.london)
LOCATION:Ealing Picturehouse\, The Ealing Cinema\, Ealing Green\, Ealing\, W5 2PA
URL:https://www.picturehouses.com/movie-details/031/HO00017849/hokum
STATUS:CONFIRMED
END:VEVENT
END:VCALENDAR