BEGIN:VCALENDAR
VERSION:2.0
PRODID:-//Pictures London//Cinema Listings//EN
CALSCALE:GREGORIAN
METHOD:PUBLISH
X-WR-CALNAME:Pictures London Cinema
BEGIN:VEVENT
UID:7d5a7077-875e-4079-92d0-df212eb45d9c@pictures.london
DTSTART:20260421T180000Z
DTEND:20260421T192600Z
SUMMARY:Miroirs No. 3 (2025) at Curzon Bloomsbury
DESCRIPTION:Miroirs No. 3 (2025)\nat Curzon Bloomsbury\nBook: https://www.curzon.com/films/miroirs-no-3/HO00006902/\nvia Pictures (pictures.london)
LOCATION:Curzon Bloomsbury\, The Brunswick Centre\, Bloomsbury\, WC1H 8AG
URL:https://www.curzon.com/films/miroirs-no-3/HO00006902/
STATUS:CONFIRMED
END:VEVENT
END:VCALENDAR