BEGIN:VCALENDAR
VERSION:2.0
PRODID:-//Pictures London//Cinema Listings//EN
CALSCALE:GREGORIAN
METHOD:PUBLISH
X-WR-CALNAME:Pictures London Cinema
BEGIN:VEVENT
UID:7d4d8429-27c8-4e6c-bee3-7c4f84b3e868@pictures.london
DTSTART:20260421T151500Z
DTEND:20260421T165400Z
SUMMARY:Glenrothan (2026) at Phoenix Cinema
DESCRIPTION:Glenrothan (2026)\nat Phoenix Cinema\nBook: https://www.phoenixcinema.co.uk/PhoenixCinemaLondon.dll/WhatsOn?f=464603\nvia Pictures (pictures.london)
LOCATION:Phoenix Cinema\, 52 High Road\, East Finchley\, N2 9PJ
URL:https://www.phoenixcinema.co.uk/PhoenixCinemaLondon.dll/WhatsOn?f=464603
STATUS:CONFIRMED
END:VEVENT
END:VCALENDAR