BEGIN:VCALENDAR
VERSION:2.0
PRODID:-//Pictures London//Cinema Listings//EN
CALSCALE:GREGORIAN
METHOD:PUBLISH
X-WR-CALNAME:Pictures London Cinema
BEGIN:VEVENT
UID:7c83ff08-c05f-4bb2-b674-2f27620f7c6f@pictures.london
DTSTART:20260427T193000Z
DTEND:20260427T214500Z
SUMMARY:Harakiri (1962) at Prince Charles Cinema
DESCRIPTION:Harakiri (1962)\nat Prince Charles Cinema\nBook: https://princecharlescinema.com/prince-charles-cinema/booknow/31625632\nvia Pictures (pictures.london)
LOCATION:Prince Charles Cinema\, 7 Leicester Place\, Leicester Square\, WC2H 7BY
URL:https://princecharlescinema.com/prince-charles-cinema/booknow/31625632
STATUS:CONFIRMED
END:VEVENT
END:VCALENDAR