BEGIN:VCALENDAR
VERSION:2.0
PRODID:-//Pictures London//Cinema Listings//EN
CALSCALE:GREGORIAN
METHOD:PUBLISH
X-WR-CALNAME:Pictures London Cinema
BEGIN:VEVENT
UID:7c252e44-7150-4d30-bc71-be466d990b90@pictures.london
DTSTART:20260422T172000Z
DTEND:20260422T184100Z
SUMMARY:I\, Poppy (2025) at Curzon Bloomsbury
DESCRIPTION:I\, Poppy (2025)\nat Curzon Bloomsbury\nBook: https://www.curzon.com/films/dochouse-i-poppy/HO00006913/\nvia Pictures (pictures.london)
LOCATION:Curzon Bloomsbury\, The Brunswick Centre\, Bloomsbury\, WC1H 8AG
URL:https://www.curzon.com/films/dochouse-i-poppy/HO00006913/
STATUS:CONFIRMED
END:VEVENT
END:VCALENDAR