BEGIN:VCALENDAR
VERSION:2.0
PRODID:-//Pictures London//Cinema Listings//EN
CALSCALE:GREGORIAN
METHOD:PUBLISH
X-WR-CALNAME:Pictures London Cinema
BEGIN:VEVENT
UID:7c1ceb61-f742-4039-bedb-031cdd1f507c@pictures.london
DTSTART:20260424T194000Z
DTEND:20260424T195000Z
SUMMARY:Primavera (1998) at Curzon Hoxton
DESCRIPTION:Primavera (1998)\nat Curzon Hoxton\nBook: https://www.curzon.com/films/primavera/HO00006900/\nvia Pictures (pictures.london)
LOCATION:Curzon Hoxton\, 58 Pitfield Street\, Hoxton\, N1 6NU
URL:https://www.curzon.com/films/primavera/HO00006900/
STATUS:CONFIRMED
END:VEVENT
END:VCALENDAR