BEGIN:VCALENDAR
VERSION:2.0
PRODID:-//Pictures London//Cinema Listings//EN
CALSCALE:GREGORIAN
METHOD:PUBLISH
X-WR-CALNAME:Pictures London Cinema
BEGIN:VEVENT
UID:7c0dcfb1-d94f-473c-b88c-497fd6847278@pictures.london
DTSTART:20260421T170000Z
DTEND:20260421T184500Z
SUMMARY:The Drama (2026) at Everyman Muswell Hill
DESCRIPTION:The Drama (2026)\nat Everyman Muswell Hill\nBook: https://purchase.everymancinema.com/launch/ticketing/d9d1d5d5-656f-5d06-a882-ae761499110c\nvia Pictures (pictures.london)
LOCATION:Everyman Muswell Hill\, Fortis Green Road\, Muswell Hill\, N10 3TD
URL:https://purchase.everymancinema.com/launch/ticketing/d9d1d5d5-656f-5d06-a882-ae761499110c
STATUS:CONFIRMED
END:VEVENT
END:VCALENDAR