BEGIN:VCALENDAR
VERSION:2.0
PRODID:-//Pictures London//Cinema Listings//EN
CALSCALE:GREGORIAN
METHOD:PUBLISH
X-WR-CALNAME:Pictures London Cinema
BEGIN:VEVENT
UID:7bfcf242-133a-40f8-b0c0-1fbd560f45a7@pictures.london
DTSTART:20260421T154500Z
DTEND:20260421T173500Z
SUMMARY:The Magic Faraway Tree (2026) at Everyman Broadgate
DESCRIPTION:The Magic Faraway Tree (2026)\nat Everyman Broadgate\nBook: https://purchase.everymancinema.com/launch/ticketing/61329565-81c8-5e34-a201-f9a060c16ff2\nvia Pictures (pictures.london)
LOCATION:Everyman Broadgate\, Broadgate Circle\, Liverpool Street\, EC2M 2QS
URL:https://purchase.everymancinema.com/launch/ticketing/61329565-81c8-5e34-a201-f9a060c16ff2
STATUS:CONFIRMED
END:VEVENT
END:VCALENDAR