BEGIN:VCALENDAR
VERSION:2.0
PRODID:-//Pictures London//Cinema Listings//EN
CALSCALE:GREGORIAN
METHOD:PUBLISH
X-WR-CALNAME:Pictures London Cinema
BEGIN:VEVENT
UID:7bf72978-129b-4378-83da-1bdf0393b00e@pictures.london
DTSTART:20260501T133000Z
DTEND:20260501T152900Z
SUMMARY:The Devil Wears Prada 2 (2026) at Screen on the Green
DESCRIPTION:The Devil Wears Prada 2 (2026)\nat Screen on the Green\nBook: https://purchase.everymancinema.com/launch/ticketing/2274b28c-fad9-545e-8f7f-b672f405bf4e\nvia Pictures (pictures.london)
LOCATION:Screen on the Green\, 83 Upper Street\, Islington\, N1 0PH
URL:https://purchase.everymancinema.com/launch/ticketing/2274b28c-fad9-545e-8f7f-b672f405bf4e
STATUS:CONFIRMED
END:VEVENT
END:VCALENDAR