BEGIN:VCALENDAR
VERSION:2.0
PRODID:-//Pictures London//Cinema Listings//EN
CALSCALE:GREGORIAN
METHOD:PUBLISH
X-WR-CALNAME:Pictures London Cinema
BEGIN:VEVENT
UID:7bd6b342-8f17-4cb3-bc9b-3cfd86706a68@pictures.london
DTSTART:20260427T173000Z
DTEND:20260427T190300Z
SUMMARY:Ali: Fear Eats the Soul (1974) at The Nickel
DESCRIPTION:Ali: Fear Eats the Soul (1974)\nat The Nickel\nFormat: DIGITAL\nBook: https://book.thenickel.co.uk/screening/288\nvia Pictures (pictures.london)
LOCATION:The Nickel\, 194 Upper Street\, Islington\, N1 1RQ
URL:https://book.thenickel.co.uk/screening/288
STATUS:CONFIRMED
END:VEVENT
END:VCALENDAR