BEGIN:VCALENDAR
VERSION:2.0
PRODID:-//Pictures London//Cinema Listings//EN
CALSCALE:GREGORIAN
METHOD:PUBLISH
X-WR-CALNAME:Pictures London Cinema
BEGIN:VEVENT
UID:7ac8cef8-5119-4dd8-911d-224d335c9104@pictures.london
DTSTART:20260427T194500Z
DTEND:20260427T211500Z
SUMMARY:Breathless (1960) at The Nickel
DESCRIPTION:Breathless (1960)\nat The Nickel\nFormat: DIGITAL\nBook: https://book.thenickel.co.uk/screening/312\nvia Pictures (pictures.london)
LOCATION:The Nickel\, 194 Upper Street\, Islington\, N1 1RQ
URL:https://book.thenickel.co.uk/screening/312
STATUS:CONFIRMED
END:VEVENT
END:VCALENDAR