BEGIN:VCALENDAR
VERSION:2.0
PRODID:-//Pictures London//Cinema Listings//EN
CALSCALE:GREGORIAN
METHOD:PUBLISH
X-WR-CALNAME:Pictures London Cinema
BEGIN:VEVENT
UID:7a89d30f-d2cf-4d94-ab3c-4ba4b518bc54@pictures.london
DTSTART:20260421T171000Z
DTEND:20260421T185500Z
SUMMARY:The Drama (2026) at Picturehouse Central
DESCRIPTION:The Drama (2026)\nat Picturehouse Central\nBook: https://www.picturehouses.com/movie-details/022/HO00017737/the-drama\nvia Pictures (pictures.london)
LOCATION:Picturehouse Central\, Corner of Great Windmill Street & Shaftesbury Avenue\, West End\, W1D 7DH
URL:https://www.picturehouses.com/movie-details/022/HO00017737/the-drama
STATUS:CONFIRMED
END:VEVENT
END:VCALENDAR