BEGIN:VCALENDAR
VERSION:2.0
PRODID:-//Pictures London//Cinema Listings//EN
CALSCALE:GREGORIAN
METHOD:PUBLISH
X-WR-CALNAME:Pictures London Cinema
BEGIN:VEVENT
UID:7a5a1604-cf5c-4c3b-90cc-bd15181e876c@pictures.london
DTSTART:20260421T164500Z
DTEND:20260421T192200Z
SUMMARY:Project Hail Mary (2026) at Curzon Victoria
DESCRIPTION:Project Hail Mary (2026)\nat Curzon Victoria\nBook: https://www.curzon.com/films/project-hail-mary/HO00006852/\nvia Pictures (pictures.london)
LOCATION:Curzon Victoria\, 58 Victoria Street\, Victoria\, SW1E 5JA
URL:https://www.curzon.com/films/project-hail-mary/HO00006852/
STATUS:CONFIRMED
END:VEVENT
END:VCALENDAR