BEGIN:VCALENDAR
VERSION:2.0
PRODID:-//Pictures London//Cinema Listings//EN
CALSCALE:GREGORIAN
METHOD:PUBLISH
X-WR-CALNAME:Pictures London Cinema
BEGIN:VEVENT
UID:7a4bd3a0-1226-4c6d-8652-e31b2381f9b5@pictures.london
DTSTART:20260421T182500Z
DTEND:20260421T203700Z
SUMMARY:Million Dollar Baby (2004) at BFI Southbank
DESCRIPTION:Million Dollar Baby (2004)\nat BFI Southbank\nFormat: DIGITAL 4K\nBook: https://whatson.bfi.org.uk/Online/default.asp?doWork::WScontent::search=1&BOparam::WScontent::search::article_search_id=25E7EA2E-291F-44F9-8EBC-E560154FDAEB&BOset::WScontent::SearchCriteria::search_criteria=Million%20Dollar%20Baby\nvia Pictures (pictures.london)
LOCATION:BFI Southbank\, Belvedere Road\, South Bank\, SE1 8XT
URL:https://whatson.bfi.org.uk/Online/default.asp?doWork::WScontent::search=1&BOparam::WScontent::search::article_search_id=25E7EA2E-291F-44F9-8EBC-E560154FDAEB&BOset::WScontent::SearchCriteria::search_criteria=Million%20Dollar%20Baby
STATUS:CONFIRMED
END:VEVENT
END:VCALENDAR