BEGIN:VCALENDAR
VERSION:2.0
PRODID:-//Pictures London//Cinema Listings//EN
CALSCALE:GREGORIAN
METHOD:PUBLISH
X-WR-CALNAME:Pictures London Cinema
BEGIN:VEVENT
UID:7a3d129d-866a-4f43-aab8-0b2db5a231a6@pictures.london
DTSTART:20260422T170000Z
DTEND:20260422T194100Z
SUMMARY:The Secret Agent (2025) at David Lean Cinema
DESCRIPTION:The Secret Agent (2025)\nat David Lean Cinema\nBook: https://www.davidleancinema.uk/#whatson\nvia Pictures (pictures.london)
LOCATION:David Lean Cinema\, The Clocktower\, Croydon Airport\, Croydon\, CR0 0XZ
URL:https://www.davidleancinema.uk/#whatson
STATUS:CONFIRMED
END:VEVENT
END:VCALENDAR