BEGIN:VCALENDAR
VERSION:2.0
PRODID:-//Pictures London//Cinema Listings//EN
CALSCALE:GREGORIAN
METHOD:PUBLISH
X-WR-CALNAME:Pictures London Cinema
BEGIN:VEVENT
UID:79c24fb9-b558-4baa-bd5d-3fc28fc7d016@pictures.london
DTSTART:20260501T110000Z
DTEND:20260501T125900Z
SUMMARY:The Devil Wears Prada 2 (2026) at Curzon Aldgate
DESCRIPTION:The Devil Wears Prada 2 (2026)\nat Curzon Aldgate\nBook: https://www.curzon.com/films/the-devil-wears-prada-2/HO00006909/\nvia Pictures (pictures.london)
LOCATION:Curzon Aldgate\, 2 Whitechapel High Street\, Aldgate\, E1 8FA
URL:https://www.curzon.com/films/the-devil-wears-prada-2/HO00006909/
STATUS:CONFIRMED
END:VEVENT
END:VCALENDAR