BEGIN:VCALENDAR
VERSION:2.0
PRODID:-//Pictures London//Cinema Listings//EN
CALSCALE:GREGORIAN
METHOD:PUBLISH
X-WR-CALNAME:Pictures London Cinema
BEGIN:VEVENT
UID:797ed211-979e-4673-a58d-14eb2b920ccc@pictures.london
DTSTART:20260425T170000Z
DTEND:20260425T190000Z
SUMMARY:The Rose of Nevada + Q&A with George Mackay at Riverside Studios
DESCRIPTION:The Rose of Nevada + Q&A with George Mackay\nat Riverside Studios\nBook: https://riversidestudios.co.uk/seats/136601/\nvia Pictures (pictures.london)
LOCATION:Riverside Studios\, 101 Queen Caroline Street\, Hammersmith\, W6 9BN
URL:https://riversidestudios.co.uk/seats/136601/
STATUS:CONFIRMED
END:VEVENT
END:VCALENDAR