BEGIN:VCALENDAR
VERSION:2.0
PRODID:-//Pictures London//Cinema Listings//EN
CALSCALE:GREGORIAN
METHOD:PUBLISH
X-WR-CALNAME:Pictures London Cinema
BEGIN:VEVENT
UID:79541a23-3553-4cee-9d51-e7f798e1a8d4@pictures.london
DTSTART:20260422T190000Z
DTEND:20260422T210700Z
SUMMARY:Michael (2026) at Everyman King's Cross
DESCRIPTION:Michael (2026)\nat Everyman King's Cross\nBook: https://purchase.everymancinema.com/launch/ticketing/980b7fbc-0019-5d58-8326-10321ffdfea3\nvia Pictures (pictures.london)
LOCATION:Everyman King's Cross\, Coal Drops Yard\, King's Cross\, N1C 4AG
URL:https://purchase.everymancinema.com/launch/ticketing/980b7fbc-0019-5d58-8326-10321ffdfea3
STATUS:CONFIRMED
END:VEVENT
END:VCALENDAR