BEGIN:VCALENDAR
VERSION:2.0
PRODID:-//Pictures London//Cinema Listings//EN
CALSCALE:GREGORIAN
METHOD:PUBLISH
X-WR-CALNAME:Pictures London Cinema
BEGIN:VEVENT
UID:79379d2e-fccf-48f4-b0f7-5285741db166@pictures.london
DTSTART:20260501T145000Z
DTEND:20260501T164900Z
SUMMARY:The Devil Wears Prada 2 (2026) at Hackney Picturehouse
DESCRIPTION:The Devil Wears Prada 2 (2026)\nat Hackney Picturehouse\nBook: https://www.picturehouses.com/movie-details/010/HO00017738/the-devil-wears-prada-2\nvia Pictures (pictures.london)
LOCATION:Hackney Picturehouse\, 270 Mare Street\, Hackney\, E8 1EJ
URL:https://www.picturehouses.com/movie-details/010/HO00017738/the-devil-wears-prada-2
STATUS:CONFIRMED
END:VEVENT
END:VCALENDAR