BEGIN:VCALENDAR
VERSION:2.0
PRODID:-//Pictures London//Cinema Listings//EN
CALSCALE:GREGORIAN
METHOD:PUBLISH
X-WR-CALNAME:Pictures London Cinema
BEGIN:VEVENT
UID:790150e2-3929-482d-856f-50767a1a8c0b@pictures.london
DTSTART:20260421T170000Z
DTEND:20260421T183800Z
SUMMARY:The Super Mario Galaxy Movie (2026) at Ealing Picturehouse
DESCRIPTION:The Super Mario Galaxy Movie (2026)\nat Ealing Picturehouse\nBook: https://www.picturehouses.com/movie-details/031/HO00017733/the-super-mario-galaxy-movie\nvia Pictures (pictures.london)
LOCATION:Ealing Picturehouse\, The Ealing Cinema\, Ealing Green\, Ealing\, W5 2PA
URL:https://www.picturehouses.com/movie-details/031/HO00017733/the-super-mario-galaxy-movie
STATUS:CONFIRMED
END:VEVENT
END:VCALENDAR