BEGIN:VCALENDAR
VERSION:2.0
PRODID:-//Pictures London//Cinema Listings//EN
CALSCALE:GREGORIAN
METHOD:PUBLISH
X-WR-CALNAME:Pictures London Cinema
BEGIN:VEVENT
UID:78e3f1b6-5557-45da-8e4a-8bbaf90cd69d@pictures.london
DTSTART:20260421T163000Z
DTEND:20260421T180800Z
SUMMARY:The Super Mario Galaxy Movie (2026) at Everyman Barnet
DESCRIPTION:The Super Mario Galaxy Movie (2026)\nat Everyman Barnet\nBook: https://purchase.everymancinema.com/launch/ticketing/f9dc4cc2-17ac-513e-b4fc-bbda888f0005\nvia Pictures (pictures.london)
LOCATION:Everyman Barnet\, Great North Road\, Barnet\, EN5 5SJ
URL:https://purchase.everymancinema.com/launch/ticketing/f9dc4cc2-17ac-513e-b4fc-bbda888f0005
STATUS:CONFIRMED
END:VEVENT
END:VCALENDAR