BEGIN:VCALENDAR
VERSION:2.0
PRODID:-//Pictures London//Cinema Listings//EN
CALSCALE:GREGORIAN
METHOD:PUBLISH
X-WR-CALNAME:Pictures London Cinema
BEGIN:VEVENT
UID:788c8127-ade1-40c4-b79b-d3f8ccb6c06e@pictures.london
DTSTART:20260424T173000Z
DTEND:20260424T190400Z
SUMMARY:Orlando (1992) at Rio Cinema
DESCRIPTION:Orlando (1992)\nat Rio Cinema\nFormat: 35MM\nEvent: discussion\nBook: https://riocinema.org.uk/Rio.dll/WhatsOn?f=2383864\nvia Pictures (pictures.london)
LOCATION:Rio Cinema\, 107 Kingsland High Street\, Dalston\, E8 2PB
URL:https://riocinema.org.uk/Rio.dll/WhatsOn?f=2383864
STATUS:CONFIRMED
END:VEVENT
END:VCALENDAR